BEGIN:VCALENDAR
VERSION:2.0
PRODID:-//ChamberMaster//Event Calendar 2.0//EN
METHOD:PUBLISH
X-PUBLISHED-TTL:P3D
REFRESH-INTERVAL:P3D
CALSCALE:GREGORIAN
BEGIN:VEVENT
DTSTART:20260509T220000Z
DTEND:20260510T000000Z
X-MICROSOFT-CDO-ALLDAYEVENT:FALSE
SUMMARY:Cleveland United FC vs. LSA Mustangs II
DESCRIPTION:Cleveland United FC is bringing high-level soccer home. Join us for an electric match filled with intensity\, passion\, and the pride of a city rallying behind its club. This is your chance to witness Cleveland's first semi-pro team compete on home turf. Get your tickets and be there when it happens.
X-ALT-DESC;FMTTYPE=text/html:Cleveland United FC is bringing high-level soccer home. Join us for an electric match filled with intensity\, passion\, and the pride of a city rallying behind its club. This is your chance to witness Cleveland&rsquo\;s first semi-pro team compete on home turf. Get your tickets and be there when it happens.
LOCATION:Bradley High School (Bear Stadium) 1000 S Lee Hwy\, \, Cleveland\, TN\, 37311
UID:e.734.16684
SEQUENCE:3
DTSTAMP:20260421T192818Z
URL:https://clevelandbradleychamber.yourtempwebsite.com/events/details/cleveland-united-fc-vs-lsa-mustangs-ii-16684
END:VEVENT

END:VCALENDAR
