BEGIN:VCALENDAR
VERSION:2.0
PRODID:-//ChamberMaster//Event Calendar 2.0//EN
METHOD:PUBLISH
X-PUBLISHED-TTL:P3D
REFRESH-INTERVAL:P3D
CALSCALE:GREGORIAN
BEGIN:VEVENT
DTSTART:20260425T220000Z
DTEND:20260426T000000Z
X-MICROSOFT-CDO-ALLDAYEVENT:FALSE
SUMMARY:Cleveland United FC vs. Chattanooga FC U20
DESCRIPTION:Cleveland United FC is bringing high-level soccer home. Join us for an electric match filled with intensity\, passion\, and the pride of a city rallying behind its club. This is your chance to witness Cleveland's first semi-pro team compete on home turf.
X-ALT-DESC;FMTTYPE=text/html:Cleveland United FC is bringing high-level soccer home. Join us for an electric match filled with intensity\, passion\, and the pride of a city rallying behind its club. This is your chance to witness Cleveland&rsquo\;s first semi-pro team compete on home turf.
LOCATION:Bradley High School (Bear Stadium)
UID:e.734.16683
SEQUENCE:3
DTSTAMP:20260421T191932Z
URL:https://clevelandbradleychamber.yourtempwebsite.com/events/details/cleveland-united-fc-vs-chattanooga-fc-u20-16683
END:VEVENT

END:VCALENDAR
